BEGIN:VCALENDAR
VERSION:2.0
PRODID:-//Chartered Accountants’ Company - ECPv6.11.0.1//NONSGML v1.0//EN
CALSCALE:GREGORIAN
METHOD:PUBLISH
X-ORIGINAL-URL:https://accountantslivery.org
X-WR-CALDESC:Events for Chartered Accountants’ Company
REFRESH-INTERVAL;VALUE=DURATION:PT1H
X-Robots-Tag:noindex
X-PUBLISHED-TTL:PT1H
BEGIN:VTIMEZONE
TZID:Europe/London
BEGIN:DAYLIGHT
TZOFFSETFROM:+0000
TZOFFSETTO:+0100
TZNAME:BST
DTSTART:20250330T010000
END:DAYLIGHT
BEGIN:STANDARD
TZOFFSETFROM:+0100
TZOFFSETTO:+0000
TZNAME:GMT
DTSTART:20251026T010000
END:STANDARD
END:VTIMEZONE
BEGIN:VEVENT
DTSTART;TZID=Europe/London:20250506T170000
DTEND;TZID=Europe/London:20250506T203000
DTSTAMP:20260420T075857
CREATED:20241220T185244Z
LAST-MODIFIED:20250302T130213Z
UID:10000967-1746550800-1746563400@accountantslivery.org
SUMMARY:Visit to Highgate Cemetery and Supper
DESCRIPTION:The world-famous Highgate Cemetery\, with its iconic tombs (Karl Marx etc) was originally opened in 1839\, as part of a commercial venture to provide seven large\, modern cemeteries\, round the edge of central London. The inner-city cemeteries\, mostly graveyards attached to churches\, had long been unable to cope with the number of burials and “The Magnificent Seven” were intended to solve this problem\, and to turn a profit at the same time. \nHighgate occupies a spectacular south-facing hillside site on Highgate Hill. Like the other six\, it soon became a fashionable place for burials and the Victorian attitude to death and its presentation led to the creation of a wealth of Gothic tombs\, buildings and catacombs. \nSadly\, the cemetery was not well run and fell into such dire financial straits in the Mid-20th Century that most of the staff\, including the gardeners were laid off\, and it was left unguarded and so was much vandalised. Over decades\, the grounds became increasingly overgrown and today they are full of trees\, shrubbery\, and wildflowers\, as well as being a haven for birds and small animals\, such as foxes. \nIn 1975\, Friends of Highgate Cemetery Trust bought the freehold\, and order is steadily being restored to what has\, despite its troubled history\, remained a working cemetery throughout. With its sinuous paths winding up a steep wooded hill and ivy-clad monuments\, Highgate Cemetery is a secluded\, funerary landscape at its most evocative. \nWe will have a hour’s private tour of the Western Cemetery (considered by those who have visited both\, to be much the more interesting)\, after the gates have shut to the public for the day. We will be shown all the key sites there\, before slipping across the road to visit Karl Marx’s tomb and a few other items on the Eastern side. \nAfter our tour\, we will repair to a restaurant in Highgate for an informal supper. \nThe Guide can only accommodate 20 of us\, and tickets cost £59 per person\, which will include the two-course supper. \nThe cemetery is on a hillside and our tour will include some walks up and down slopes and stone staircases\, so this event is not suitable for anyone with mobility issues. \n\nTickets: £59 \nTime: 5pm    followed by supper nearby
URL:https://accountantslivery.org/event/visit-to-highgate-cemetery-and-supper/
LOCATION:Highgate Cemetery\, Swain's Lane\, London\, N6 6PJ\, United Kingdom
CATEGORIES:Dinner,Evening tour
ATTACH;FMTTYPE=image/jpeg:https://accountantslivery.org/wp-content/uploads/2024/12/HIGHGATE-CEMETERY.jpg
ORGANIZER;CN="Jonathan Grosvenor":MAILTO:clerk@accountantslivery.org
END:VEVENT
END:VCALENDAR