BEGIN:VCALENDAR
VERSION:2.0
PRODID:-//Chartered Accountants’ Company - ECPv6.11.0.1//NONSGML v1.0//EN
CALSCALE:GREGORIAN
METHOD:PUBLISH
X-ORIGINAL-URL:https://accountantslivery.org
X-WR-CALDESC:Events for Chartered Accountants’ Company
REFRESH-INTERVAL;VALUE=DURATION:PT1H
X-Robots-Tag:noindex
X-PUBLISHED-TTL:PT1H
BEGIN:VTIMEZONE
TZID:Europe/London
BEGIN:DAYLIGHT
TZOFFSETFROM:+0000
TZOFFSETTO:+0100
TZNAME:BST
DTSTART:20260329T010000
END:DAYLIGHT
BEGIN:STANDARD
TZOFFSETFROM:+0100
TZOFFSETTO:+0000
TZNAME:GMT
DTSTART:20261025T010000
END:STANDARD
END:VTIMEZONE
BEGIN:VEVENT
DTSTART;TZID=Europe/London:20260701T193000
DTEND;TZID=Europe/London:20260701T220000
DTSTAMP:20260422T215902
CREATED:20260410T115827Z
LAST-MODIFIED:20260413T163111Z
UID:10001113-1782934200-1782943200@accountantslivery.org
SUMMARY:High Society : The Musical
DESCRIPTION:You’re invited to the most swell party of the year as this summer’s eagerly anticipated production delivers another glorious dose of Golden Age musical theatre escapism.\n\n\n\nHelen George (Call the Midwife\, The King and I) leads the cast as the glamorous Tracy Lord\, joined by stage and screen favourites Felicity Kendal (Rosemary and Thyme)\, Freddie Fox (Slow Horses) and Julian Ovenden (South Pacific). Carly Mercedes Dyer (Anything Goes\, A Chorus Line) and Nigel Lindsay (Kiss Me\, Kate) return to the Barbican\, joined by Malcolm Sinclair (Pie in the Sky). \nJoin the 28-strong cast as plans for the society wedding of the year descend into chaos\, with old flames and new sparks vying for attention while a sharp-eyed tabloid reporter hunts for scandal at the waterfront estate. \nBrought to life by a multi award-winning creative team\, including Rachel Kavanaugh and choreographer Anthony Van Laast\, High Society rings in the summer season\, hot on the heels of Anything Goes and Kiss Me\, Kate. \n\nTickets: Exclusive offer of top seats for £60! \nTo include \n\nComplimentary pre-performance drinks and interval drinks in a private area\nFree programme\nTop seats\n\nTo book your place please contact Clive Parritt on clive@parritt.com \n 
URL:https://accountantslivery.org/event/high-society-the-musical/
LOCATION:The Barbican Theatre\, Barbican Centre\, Silk Street\, London\, EC2Y 8DS
ATTACH;FMTTYPE=image/png:https://accountantslivery.org/wp-content/uploads/2026/04/High-Society-Barbican-July-2026-website-1920x1080-1.png
END:VEVENT
END:VCALENDAR