BEGIN:VCALENDAR
VERSION:2.0
PRODID:-//Chartered Accountants’ Company - ECPv6.11.0.1//NONSGML v1.0//EN
CALSCALE:GREGORIAN
METHOD:PUBLISH
X-ORIGINAL-URL:https://accountantslivery.org
X-WR-CALDESC:Events for Chartered Accountants’ Company
REFRESH-INTERVAL;VALUE=DURATION:PT1H
X-Robots-Tag:noindex
X-PUBLISHED-TTL:PT1H
BEGIN:VTIMEZONE
TZID:Europe/London
BEGIN:DAYLIGHT
TZOFFSETFROM:+0000
TZOFFSETTO:+0100
TZNAME:BST
DTSTART:20250330T010000
END:DAYLIGHT
BEGIN:STANDARD
TZOFFSETFROM:+0100
TZOFFSETTO:+0000
TZNAME:GMT
DTSTART:20251026T010000
END:STANDARD
END:VTIMEZONE
BEGIN:VEVENT
DTSTART;TZID=Europe/London:20250604T143000
DTEND;TZID=Europe/London:20250604T153000
DTSTAMP:20260422T184349
CREATED:20250306T135343Z
LAST-MODIFIED:20250524T202922Z
UID:10000987-1749047400-1749051000@accountantslivery.org
SUMMARY:Tour of the Triforium of St Paul's
DESCRIPTION:Most Livery Members\, after a while\, would describe themselves as fairly familiar with our great Cathedral. After all\, it is effectively the City Civic’s “parish church” (For a start\, there is nothing else locally\, which is big enough to fit us all in!) and there are services and concerts there\, throughout the year. \nHowever\, what we routinely see\, down at floor level\, is by no means all that Wren’s architectural triumph has to offer\, and so this June a party of up to 20 of us will be taken on a private tour of those parts of the Cathedral which the public seldom sees. \nOur guide will take us up to the Triforium and into the Library and the Trophy Room. We will also see the Great Model\, which played such a crucial role in the development of the building’s design and engineering during its construction. Then as a finale\, we will enjoy the spectacular view down from the top of the iconic Geometric Staircase and another down the nave\, from above the Great West Doors. \nThe tour will start at 2.30pm and last about an hour\, and for those feeling peckish\, the Master will lead a party to a nearby restaurant for a spot of lunch beforehand. \nTickets for the tour cost £39 each. Dress will be “smart casual”\, and the lunch will be publicised and billed separately\, for those who wish to attend.
URL:https://accountantslivery.org/event/triforium-tour-of-st-pauls/
LOCATION:St Paul’s Cathedral\, St Paul's Churchyard\, London\, EC4M 8AD\, United Kingdom
CATEGORIES:Tour
ATTACH;FMTTYPE=image/png:https://accountantslivery.org/wp-content/uploads/2025/03/Triforium-tour-June-2025-website-image.png
ORGANIZER;CN="Jonathan Grosvenor":MAILTO:clerk@accountantslivery.org
END:VEVENT
END:VCALENDAR