BEGIN:VCALENDAR
VERSION:2.0
PRODID:-//Chartered Accountants’ Company - ECPv6.11.0.1//NONSGML v1.0//EN
CALSCALE:GREGORIAN
METHOD:PUBLISH
X-WR-CALNAME:Chartered Accountants’ Company
X-ORIGINAL-URL:https://accountantslivery.org
X-WR-CALDESC:Events for Chartered Accountants’ Company
REFRESH-INTERVAL;VALUE=DURATION:PT1H
X-Robots-Tag:noindex
X-PUBLISHED-TTL:PT1H
BEGIN:VTIMEZONE
TZID:Europe/London
BEGIN:DAYLIGHT
TZOFFSETFROM:+0000
TZOFFSETTO:+0100
TZNAME:BST
DTSTART:20250330T010000
END:DAYLIGHT
BEGIN:STANDARD
TZOFFSETFROM:+0100
TZOFFSETTO:+0000
TZNAME:GMT
DTSTART:20251026T010000
END:STANDARD
END:VTIMEZONE
BEGIN:VEVENT
DTSTART;TZID=Europe/London:20250516T180000
DTEND;TZID=Europe/London:20250516T235900
DTSTAMP:20260422T215859
CREATED:20241205T130913Z
LAST-MODIFIED:20250331T084926Z
UID:10000937-1747418400-1747439940@accountantslivery.org
SUMMARY:Livery Tour and Dinner on SS Great Britain - Sold Out
DESCRIPTION:The SS Great Britain is the world’s first great ocean liner and when launched in 1843 she was called ‘the greatest experiment since the creation’. After 40 years as a passenger ship and then a cargo ship\, she was severely damaged off Cape Horn and left to rot in the Falkland Islands until 1970\, when she was re-floated and bought back to Bristol\, where a charity refurbished her and cares for the ship and Brunel’s collections. \nBrunel’s ship is now Bristol’s number one tourist attraction and has been lovingly restored to her original glory\, exactly as she would have been ready for her maiden voyage. She sits in a dry dock on a glass ‘sea’ and dominates Bristol’s historic waterfront. \nThis is a very rare opportunity to dine on the this world-famous ship\, as London’s Liveries\, (led by the Engineers\, naturally!)\, have her for our exclusive use that evening. \nA welcome drink which will be served on the Weather Deck from 6pm\, with spectacular views over Bristol harbour. If the weather is less kind\, we will use the Promenade Deck\, where the first-class passengers would take their afternoon stroll on rainy days. This is flooded with natural light and has a number of exhibits that we can explore. \nAt 7:30pm we will assemble for Dinner in the First Class Dining Saloon\, which has been completely refurbished in the original style. With marbled pillars and rococo mirrors it makes a grand setting. A three-course meal will be served\, with wine. There will be entertainment after the meal and further drinks will be available to purchase. \nWe have exclusive use of the Great Britain from 6pm to midnight and are invited to explore it\, making the most of this unique venue. \nThe ship is easy to reach by car\, public transport or on foot. There are also several hotels near the ship\, for those who wish to stay over on the Friday night\, and Clare can advise on these. \n\nTickets: £142 \nDress: dinner suits for gentlemen and cocktail/summer dresses for ladies. Colour is to be encouraged\, as is comfort. \nTime: 6pm-midnight
URL:https://accountantslivery.org/event/tour-and-dinner-on-ss-great-britain/
LOCATION:SS Great Britain\, Great Western Dockyard\, Gas Ferry Rd\, Bristol\, BS1 6TY
CATEGORIES:Dinner,Evening tour,Tour,Trip
ATTACH;FMTTYPE=image/png:https://accountantslivery.org/wp-content/uploads/2024/12/SS-Great-Britain-website-photo.png
ORGANIZER;CN="Jonathan Grosvenor":MAILTO:clerk@accountantslivery.org
END:VEVENT
END:VCALENDAR