BEGIN:VCALENDAR
VERSION:2.0
PRODID:-//Chartered Accountants’ Company - ECPv6.11.0.1//NONSGML v1.0//EN
CALSCALE:GREGORIAN
METHOD:PUBLISH
X-ORIGINAL-URL:https://accountantslivery.org
X-WR-CALDESC:Events for Chartered Accountants’ Company
REFRESH-INTERVAL;VALUE=DURATION:PT1H
X-Robots-Tag:noindex
X-PUBLISHED-TTL:PT1H
BEGIN:VTIMEZONE
TZID:Europe/London
BEGIN:DAYLIGHT
TZOFFSETFROM:+0000
TZOFFSETTO:+0100
TZNAME:BST
DTSTART:20250330T010000
END:DAYLIGHT
BEGIN:STANDARD
TZOFFSETFROM:+0100
TZOFFSETTO:+0000
TZNAME:GMT
DTSTART:20251026T010000
END:STANDARD
BEGIN:DAYLIGHT
TZOFFSETFROM:+0000
TZOFFSETTO:+0100
TZNAME:BST
DTSTART:20260329T010000
END:DAYLIGHT
BEGIN:STANDARD
TZOFFSETFROM:+0100
TZOFFSETTO:+0000
TZNAME:GMT
DTSTART:20261025T010000
END:STANDARD
END:VTIMEZONE
BEGIN:VEVENT
DTSTART;TZID=Europe/London:20251222T180000
DTEND;TZID=Europe/London:20251222T213000
DTSTAMP:20260422T225743
CREATED:20250813T102909Z
LAST-MODIFIED:20251021T142514Z
UID:10001023-1766426400-1766439000@accountantslivery.org
SUMMARY:Carol Service 2025
DESCRIPTION:This year we have obtained special permission to hold our Carol Service once again at the Chapel Royal of St Peter ad Vinicula within the grounds of the Tower of London. \nThose who attended last year will recall the spectacular festive lighting of the Tower grounds and the stunning history of this small chapel\, which contains the tombs of many notable figures\, including three executed Queens of England: Anne Boleyn\, Catherine Howard and Lady Jane Grey\, as well as the remains of St Thomas More and St John Fisher. \nThe service will take place in the early evening and will be followed by drinks and canapés at the nearby Bakers Hall\, the home of the second-oldest City Guild. \nFor this year’s Carol Service\, the Chartered Accountants are joining with a fellow-member of the Financial Services Group of Liveries\, the Insurers Company. \nAfter the service\, Members and their guests can either leave for home\, or walk to Bakers’ Hall\, just a few minutes away\, for festive canapés and drinks \n\nCarol Service in the Chapel Royal in the Tower of London\n6.30pm \nDrinks and Canapés at Bakers’ Hall\n7.30pm \nThis is an event at which guests (including children) are most welcome. \nDress: smart day wear\, and given that the Tower is always cold in December – coats\, hats and gloves are advisable! \nTickets: £70\nPlease book online where possible; If unable to\, then please contact Clare Ferrar on clareferrar@accountantslivery.org \n \n 
URL:https://accountantslivery.org/event/carol-service-2025/
LOCATION:Tower of London\, St Katherine's & Wapping\, London\, EC3N 4AB\, United Kingdom
CATEGORIES:Carol Service,Evening tour,Reception
ATTACH;FMTTYPE=image/png:https://accountantslivery.org/wp-content/uploads/2025/08/Livery-Carol-Service-2025-website-1920-x1080px.png
END:VEVENT
BEGIN:VEVENT
DTSTART;TZID=Europe/London:20260205T180000
DTEND;TZID=Europe/London:20260205T220000
DTSTAMP:20260422T225743
CREATED:20250919T150505Z
LAST-MODIFIED:20251114T161725Z
UID:10001033-1770314400-1770328800@accountantslivery.org
SUMMARY:Master's Evening with the English National Opera - HMS Pinafore\, tour and drinks
DESCRIPTION:This is an incredible opportunity to see the London Coliseum in a way you haven’t before!\nThe event will start at 6pm with an exclusive tour of the London Coliseum front of house spaces and auditorium\, learning about the history of the building and seeing the beautiful architecture up-close. At 6:30pm guests will make our way to the Sky Bar Boardroom\, where drinks and finger food will be served. Guests will be asked to take their seats in the Upper Circle at approximately 7:20pm\, ready for a 7:30pm curtain up. During the 20 minute interval\, guests will return to the Sky Bar Boardroom for further drinks\, before settling in for the second act. The curtain will come down at approximately 9:45pm\, after which guests can collect their belongings from the Sky Bar Boardroom and depart. The performance will last around 2 hours 15 minutes. \n\n\nLove isn’t always smooth sailing\n\nOne of Gilbert & Sullivan‘s most beloved works\, HMS Pinafore tells a classic tale of a forbidden love\, and the troubles that must be overcome before our hero and heroine can be together. \n\n\n\nAll aboard HMS Pinafore for this hilarious revival of Gilbert & Sullivan’s nautical love triangle. \nJoin Captain Corcoran and his daughter Josephine as she faces a battle between duty and love on the high seas. While her father makes plans for her to tie the knot with the suitably ranked First Lord of the Admiralty\, Josephine has romantic ideas of her own. And after falling for lowly deckhand Ralph\, the loved-up pair make plans to elope. That is\, until a surprise revelation rocks the boat. \n\nMore details of the ENO’s HMS Pinafore can be found HERE\nOr read the ENO’s Introduction to HMS Pinafore HERE \nIf you like your operas to have a bit of tongue-in-cheek humour\, you’ll love HMS Pinafore. \n\nTickets: £99 includes an excellent Upper Circle ticket\, an exclusive tour\, private room hire\, half a bottle of wine per person\, a selection of soft drinks\, 4 double bite canapes per person\, and all staffing and management of the event. \nPlease book by clicking the button below – this will take you to our dedicated page on the ENO website.  \nBuy Tickets HERE
URL:https://accountantslivery.org/event/masters-evening-with-the-english-national-opera-hms-pinafore-tour-and-drinks/
LOCATION:London Coliseum\, St Martin's Lane\, London\, WC2N 4ES
CATEGORIES:Evening tour
ATTACH;FMTTYPE=image/png:https://accountantslivery.org/wp-content/uploads/2025/09/ENO-HMS-Pinafore-Feb-2026-website-photo-.png
END:VEVENT
END:VCALENDAR