BEGIN:VCALENDAR
VERSION:2.0
PRODID:-//Chartered Accountants’ Company - ECPv6.11.0.1//NONSGML v1.0//EN
CALSCALE:GREGORIAN
METHOD:PUBLISH
X-WR-CALNAME:Chartered Accountants’ Company
X-ORIGINAL-URL:https://accountantslivery.org
X-WR-CALDESC:Events for Chartered Accountants’ Company
REFRESH-INTERVAL;VALUE=DURATION:PT1H
X-Robots-Tag:noindex
X-PUBLISHED-TTL:PT1H
BEGIN:VTIMEZONE
TZID:Europe/London
BEGIN:DAYLIGHT
TZOFFSETFROM:+0000
TZOFFSETTO:+0100
TZNAME:BST
DTSTART:20260329T010000
END:DAYLIGHT
BEGIN:STANDARD
TZOFFSETFROM:+0100
TZOFFSETTO:+0000
TZNAME:GMT
DTSTART:20261025T010000
END:STANDARD
END:VTIMEZONE
BEGIN:VEVENT
DTSTART;TZID=Europe/London:20260421T083000
DTEND;TZID=Europe/London:20260421T103000
DTSTAMP:20260421T020223
CREATED:20260313T170110Z
LAST-MODIFIED:20260410T115414Z
UID:10001109-1776760200-1776767400@accountantslivery.org
SUMMARY:Financial Services Group Business Breakfast
DESCRIPTION:Financial Services Group Business Breakfast\n21 April 2026\, 8.30am – 10.30am\nHopper Room\, Lloyds Lab\, One Lime Street\, London EC3M 7HA\nExploring the Insurance Sector’s Role as the City’s Economic Engine\nJoin the Financial Services Group (FSG) of Livery Companies for a high-level briefing on the current trajectory of the UK’s financial landscape. This session focuses on the critical role of the Risk and Protection sectors—the essential “oil” ensuring the City’s economic engine operates at peak efficiency. \nEvent overview \n\nDate: Tuesday 21 April 2026\nTime: 8.30am – 10.30am\nVenue: Hopper Room\, Lloyds Lab\, One Lime Street\, London EC3M 7HA\nRegister by 5pm on Tuesday 14 April. Free to attend\n\nThe Economic Context The City of London’s recent benchmarking report\, Our Global Offer to Business 2026 \, underscores the massive scale of our sector: \n\nNational Impact: Finance and Professional Services contribute £307 billion annually to the UK economy.\nGDP Contribution: This represents 12% of total UK GDP .\nSector Dominance: Supporting data from the London Market Group (LMG) reveals that the London specialty insurance market now accounts for 37% of the City of London’s GDP \, a significant increase from 23% in 2018.\n\nKeynote speaker: Graham Walsh Director of Campaigns\, London Market Group (LMG) Graham Walsh brings extensive expertise in (re)insurance modelling and policy\, having previously served in the insurance strategy team at Deloitte and as the cyber insurance policy lead at the ABI . During this session\, he will: \n\nHighlight the sector’s evolution and key achievements over the past decade.\nIdentify the tailwinds driving continued growth and the cautionary headwinds to monitor.\nProvide an exclusive preview of the inaugural London Risk Week\, scheduled for the week of 11th May.\n\n  \nAbout the Financial Services Group (FSG)\nThe FSG represents 16 Livery Companies dedicated to supporting the financial and business services sector. We work in coordination with the Lady/Lord Mayor and the City of London Corporation to promote the City’s global interests. Our committee meets quarterly to exchange strategic views and develop high-value events for our member companies. \n\n  \n  \nRegister online. Complete a separate form for each guest.
URL:https://accountantslivery.org/event/financial-services-group-business-breakfast/
LOCATION:Milton Keynes\,
ATTACH;FMTTYPE=image/png:https://accountantslivery.org/wp-content/uploads/2026/03/FSG-Business-Breakfast-21-April-2026-website-1920x1080-1.png
END:VEVENT
BEGIN:VEVENT
DTSTART;TZID=Europe/London:20260421T170000
DTEND;TZID=Europe/London:20260421T183000
DTSTAMP:20260421T020223
CREATED:20260106T190706Z
LAST-MODIFIED:20260305T133104Z
UID:10001055-1776790800-1776796200@accountantslivery.org
SUMMARY:Common Hall (AGM)
DESCRIPTION:This year’s Common Hall (AGM) will take place in Chartered Accountants’ Hall before the Spring Dinner at Grocers’ Hall. \nAll Members are invited to attend this meeting at 5pm\, but please be aware\, that only Liverymen can vote.\nThis year’s meeting will be held at Chartered Accountants’ Hall and the Spring Dinner will follow at Grocers’ Hall. \nPlease book for Common Hall here: https://accountantslivery.wufoo.com/forms/q1hk9m0z0l8cv01/ \nIf you are unable to attend\, but still wish to votre\, you can complete the online Proxy Form here: https://accountantslivery.wufoo.com/forms/qpx0apr0bzqetb/ \nPlease note the two locations.\nGrocers’ Hall will be open for guests and a cloakroom from 4.30pm and is a five-minute walk from Chartered Accountants’ Hall.
URL:https://accountantslivery.org/event/common-hall-agm-2026/
LOCATION:Chartered Accountants’ Hall\, One Moorgate Place\, London\, EC2R 6EA\, United Kingdom
ATTACH;FMTTYPE=image/png:https://accountantslivery.org/wp-content/uploads/2026/01/Common-Hall-April-2026-website-1920x1080-1.png
END:VEVENT
BEGIN:VEVENT
DTSTART;TZID=Europe/London:20260421T183000
DTEND;TZID=Europe/London:20260421T223000
DTSTAMP:20260421T020223
CREATED:20260106T193721Z
LAST-MODIFIED:20260408T171623Z
UID:10001057-1776796200-1776810600@accountantslivery.org
SUMMARY:Spring Dinner 2026
DESCRIPTION:You are all invited to dinner in the historic Grocers’ Hall on Tuesday 21 April 2026. \n  \nThis year’s dinner will have a Charity focus\, and after dinner\, you will hear from Donna Beetham. \nDonna has led fundraising at City Harvest for 2.5 years\, drawing on 16 years of fundraising leadership experience with national and international charities. She began her third-sector career at global pharmaceutical company\, GlaxoSmithKline\, where she managed UK charitable giving and partnerships. Donna has raised millions for worthwhile causes over the years and is incredibly proud to have been part of the Livery Food Initiative. \nAll members\, guests\, and potential members are encouraged to book! \n  \n\nTickets: £154\nPlease book below where possible. If unable to book online\, please contact Clare Ferrar on clareferrar@accountantslivery.org \nLocation: Grocers’ Hall\n Common Hall (AGM) takes place at Chartered Accountants’ Hall beforehand \nTime:\n6.30pm Drinks\n7pm Dinner\n10.30pm Carriages \nDress: Black Tie or Livery uniform with badges \nBuy Tickets HERE
URL:https://accountantslivery.org/event/spring-dinner-2026/
LOCATION:Milton Keynes\,
ATTACH;FMTTYPE=image/png:https://accountantslivery.org/wp-content/uploads/2026/01/Spring-Dinner-April-2026-website-1920x1080-1.png
END:VEVENT
END:VCALENDAR